BEGIN:VCALENDAR
VERSION:2.0
PRODID:-//Marketing &amp; Social Research Association - MSRA - ECPv6.15.13.1//NONSGML v1.0//EN
CALSCALE:GREGORIAN
METHOD:PUBLISH
X-ORIGINAL-URL:https://msra.africa
X-WR-CALDESC:Events for Marketing &amp; Social Research Association - MSRA
REFRESH-INTERVAL;VALUE=DURATION:PT1H
X-Robots-Tag:noindex
X-PUBLISHED-TTL:PT1H
BEGIN:VTIMEZONE
TZID:Europe/Moscow
BEGIN:STANDARD
TZOFFSETFROM:+0300
TZOFFSETTO:+0300
TZNAME:MSK
DTSTART:20230101T000000
END:STANDARD
END:VTIMEZONE
BEGIN:VEVENT
DTSTART;TZID=Europe/Moscow:20241003T110000
DTEND;TZID=Europe/Moscow:20241003T120000
DTSTAMP:20260422T161204
CREATED:20241017T200831Z
LAST-MODIFIED:20241017T200831Z
UID:5612-1727953200-1727956800@msra.africa
SUMMARY:Ethics in AI: Balancing Innovation and Ethical Responsibility
DESCRIPTION:In this session\, we explored: \n\nEthical challenges AI poses in research\, including privacy\, data ownership\, and informed consent.\nPotential biases in AI algorithms and how to mitigate them for fair research practices.\nThe importance of transparency and accountability in AI-driven research.\nGlobal best practices and actionable frameworks for ethical AI use in marketing and social research.\nThe role of cross-sector collaboration in promoting ethical AI.
URL:https://msra.africa/event/ethics-in-ai-balancing-innovation-and-ethical-responsibility/
LOCATION:Nairobi
CATEGORIES:Trainings
ATTACH;FMTTYPE=image/jpeg:https://msra.africa/wp-content/uploads/2024/10/ai-ethics.jpg
END:VEVENT
END:VCALENDAR